BEGIN:VCALENDAR
VERSION:2.0
PRODID:-//Tukios.com/
BEGIN:VEVENT
UID:e8717cd1-da5f-4136-b063-f6939aaf0b56@www.farmingtonfuneral.com
DTSTAMP:20260422T183735Z
DTSTART:20260425T170000Z
DTEND:20260425T180000Z
SUMMARY:Memorial Service
DESCRIPTION:
URL:https://www.farmingtonfuneral.com/obituaries/clay-sawyer
LOCATION:Farmington Funeral Home 2111 W. Apache Street  Farmington NM 
	87401
GEO:36.7332221;-108.2365935
END:VEVENT
END:VCALENDAR