BEGIN:VCALENDAR
VERSION:2.0
PRODID:-//Tukios.com/
BEGIN:VEVENT
UID:9e30b39c-ed79-466e-8604-85000c1c0ccd@www.farmingtonfuneral.com
DTSTAMP:20260422T020551Z
DTSTART:20260427T160000Z
DTEND:20260427T170000Z
SUMMARY:Funeral Service
DESCRIPTION:
URL:https://www.farmingtonfuneral.com/obituaries/eli-newton
LOCATION: 2111 W. Apache Street  Farmington NM 87401
GEO:36.7332221;-108.2365935
END:VEVENT
END:VCALENDAR