BEGIN:VCALENDAR
VERSION:2.0
PRODID:-//Tukios.com/
BEGIN:VEVENT
UID:76231eca-042d-4153-9b79-fa9843b4cc9b@www.farmingtonfuneral.com
DTSTAMP:20260424T021242Z
DTSTART:20260430T160000Z
DTEND:20260430T170000Z
SUMMARY:Funeral Service
DESCRIPTION:
URL:https://www.farmingtonfuneral.com/obituaries/ernest-begay-jr
LOCATION:Bloomfield Assembly of God 211 East Oak Avenue  Bloomfield NM 
	87413
GEO:36.7131137;-107.9770264
END:VEVENT
END:VCALENDAR