BEGIN:VCALENDAR
VERSION:2.0
PRODID:-//Tukios.com/
BEGIN:VEVENT
UID:0422e1ea-3025-4b99-9611-f59e2868639e@www.farmingtonfuneral.com
DTSTAMP:20260425T004829Z
DTSTART:20260508T160000Z
DTEND:20260508T170000Z
SUMMARY:Memorial Service
DESCRIPTION:
URL:https://www.farmingtonfuneral.com/obituaries/joseph-ashley-jr
LOCATION:Sacred Heart Catholic Church 414 N Allen Ave  Farmington NM 
	87401
GEO:36.7336438;-108.2065683
END:VEVENT
END:VCALENDAR