BEGIN:VCALENDAR
VERSION:2.0
PRODID:-//Tukios.com/
BEGIN:VEVENT
UID:3f5ed7a7-2cde-4211-9fb5-27b1b9a61df4@www.farmingtonfuneral.com
DTSTAMP:20260422T005710Z
DTSTART:20260429T000000Z
DTEND:20260429T020000Z
SUMMARY:Memorial Service
DESCRIPTION:
URL:https://www.farmingtonfuneral.com/obituaries/linda-thompson
LOCATION:Artifacts 302 E. Main St.  Farmington NM 87401
GEO:36.7293444;-108.2035629
END:VEVENT
END:VCALENDAR