BEGIN:VCALENDAR
VERSION:2.0
PRODID:-//Tukios.com/
BEGIN:VEVENT
UID:68d327ac-e8a4-48e8-93aa-fb23f08fc142@www.farmingtonfuneral.com
DTSTAMP:20260422T204324Z
DTSTART:20260427T153000Z
DTEND:20260427T163000Z
SUMMARY:Rosary
DESCRIPTION:
URL:https://www.farmingtonfuneral.com/obituaries/oralia-valencia
LOCATION: 307 N. Hwy 64  Blanco NM 87412
GEO:36.730623;-107.677623
END:VEVENT
END:VCALENDAR