BEGIN:VCALENDAR
VERSION:2.0
PRODID:-//Tukios.com/
BEGIN:VEVENT
UID:01663cf3-a9e7-4b04-8f26-d703e8e579f1@www.farmingtonfuneral.com
DTSTAMP:20260422T204507Z
DTSTART:20260427T163000Z
DTEND:20260427T173000Z
SUMMARY:Mass
DESCRIPTION:
URL:https://www.farmingtonfuneral.com/obituaries/oralia-valencia
LOCATION: 307 N. Hwy 64  Blanco NM 87412
GEO:36.730623;-107.677623
END:VEVENT
END:VCALENDAR