BEGIN:VCALENDAR
VERSION:2.0
PRODID:-//Tukios.com/
BEGIN:VEVENT
UID:178e13c5-c07a-4a42-8172-e32a73f852e6@www.farmingtonfuneral.com
DTSTAMP:20260422T204217Z
DTSTART:20260427T173000Z
DTEND:20260427T183000Z
SUMMARY:Burial
DESCRIPTION:
URL:https://www.farmingtonfuneral.com/obituaries/oralia-valencia
LOCATION: 7378 US-64  Blanco NM 87412
GEO:36.7242398;-107.8269788
END:VEVENT
END:VCALENDAR