BEGIN:VCALENDAR
VERSION:2.0
PRODID:-//Tukios.com/
BEGIN:VEVENT
UID:0c93cbfe-8815-4eb5-bcd5-4e8343b1ac2a@www.farmingtonfuneral.com
DTSTAMP:20260422T204125Z
DTSTART:20260427T183000Z
DTEND:20260427T193000Z
SUMMARY:Reception
DESCRIPTION:
URL:https://www.farmingtonfuneral.com/obituaries/oralia-valencia
LOCATION: 7378 US Hwy 64  Blanco NM 87412
GEO:36.7242398;-107.8269788
END:VEVENT
END:VCALENDAR